BEGIN:VCALENDAR
VERSION:2.0
PRODID:-//eventon.com NONSGML v1.0//EN
CALSCALE:GREGORIAN
METHOD:PUBLISH
BEGIN:VEVENT
UID:69e60b96b3aef
DTSTAMP:20260420T111846Z
DTSTART:20241201T180000Z
DTEND:20241201T235000Z
LOCATION:
SUMMARY:Vesper zum Advent
DESCRIPTION:Adeventliche Vesper mit Ulla Pillmannn\,  Xaver Hetzenegger und
  befreundeten Musiker*innen. Pfarrer Robert Dwornicki liest adventliche Tex
 te. Einlass eine halbe Stunde vor Veranstaltungsbeginn Kontakt: Birgit Dwor
 nicki\, Tel. 02204/63398\, E-Mail: birgit.dwornicki@ekir.de Der Eintritt is
 t frei\, jedoch wird am Ausgang um eine Spende gebeten.\nhttps://in-gl.de/e
 vents/vesper-zum-advent/
URL:https://in-gl.de/events/vesper-zum-advent/
END:VEVENT
END:VCALENDAR