BEGIN:VCALENDAR
VERSION:2.0
PRODID:-//eventon.com NONSGML v1.0//EN
CALSCALE:GREGORIAN
METHOD:PUBLISH
BEGIN:VEVENT
UID:69e4ee507d1a6
DTSTAMP:20260419T150136Z
DTSTART:20241006T110000Z
DTEND:20241006T120000Z
LOCATION:
SUMMARY:Dialog mit dem Original
DESCRIPTION:Im Mittelpunkt steht die gemeinsame Betrachtung eines ausgewäh
 lten Kunstwerkes der Ausstellung "Jenny Michel: Soft Ruins". Moderation: Ge
 org Dittrich Die Teilnahmegebühr ist im Museumseintritt enthalten.\nhttps:
 //in-gl.de/events/dialog-mit-dem-original-6/
URL:https://in-gl.de/events/dialog-mit-dem-original-6/
END:VEVENT
END:VCALENDAR