BEGIN:VCALENDAR
VERSION:2.0
PRODID:-//eventon.com NONSGML v1.0//EN
CALSCALE:GREGORIAN
METHOD:PUBLISH
BEGIN:VEVENT
UID:69e50f4b4d795
DTSTAMP:20260419T172219Z
DTSTART:20241013T110000Z
DTEND:20241013T120000Z
LOCATION:
SUMMARY:Jenny Michel: Soft Ruins
DESCRIPTION:Öffentliche Führung durch die Ausstellung „Jenny Michel: So
 ft Ruins“. Jenny Michel (*1975 in Worms\,  lebt in Berlin) schafft Collag
 en aus Papier und Holz\,  die vergangene Utopien und dystopische Zukünfte 
 thematisieren. Ihre Werke\,  die alltägliche Materialien und Abfall nutzen
 \,  bieten eine dichte Gegenerzählung zu dominanten wissenschaftlichen Nar
 rativen. Die Teilnahmegebühr ist im[..]\nhttps://in-gl.de/events/jenny-mic
 hel-soft-ruins-5/
URL:https://in-gl.de/events/jenny-michel-soft-ruins-5/
END:VEVENT
END:VCALENDAR