BEGIN:VCALENDAR
VERSION:2.0
PRODID:-//eventon.com NONSGML v1.0//EN
CALSCALE:GREGORIAN
METHOD:PUBLISH
BEGIN:VEVENT
UID:69e4e18a312f4
DTSTAMP:20260419T140706Z
DTSTART:20241006T140000Z
DTEND:20241006T160000Z
LOCATION:
SUMMARY:Handwerker-Vorführung: Schmieden
DESCRIPTION:Sonntagnachmittags lässt unser ehrenamtlicher Handwerker\,  In
 go Schultes\,  historische Techniken aufleben. Schauen Sie ihm über die Sc
 hulter. Eintritt: 3\, 00 € / 1\, 50 € (ermäßigt) / für Kinder im Vor
 schulalter frei.\nhttps://in-gl.de/events/handwerker-vorfuehrung-schmieden-
 8/
URL:https://in-gl.de/events/handwerker-vorfuehrung-schmieden-8/
END:VEVENT
END:VCALENDAR