BEGIN:VCALENDAR
VERSION:2.0
PRODID:-//eventon.com NONSGML v1.0//EN
CALSCALE:GREGORIAN
METHOD:PUBLISH
BEGIN:VEVENT
UID:69e52267f3b3d
DTSTAMP:20260419T184351Z
DTSTART:20241004T160000Z
DTEND:20241004T235000Z
LOCATION:
SUMMARY:Theater für Kinder: Das NEINhorn
DESCRIPTION:Fr. 04.10.2024 | 16 Uhr Sa. 05.10.2024 | 15 Uhr So. 06.10.2024 
 | 15 Uhr Das Puppenspiel zum Kinderbuch von Marc Uwe Kling und Astrid Henn.
  Im Herzwald kommt ein schnickeldischnuckeliges Einhorn zur Welt. Alle sind
  ganz lilalieb zu ihm und füttern es ständig mit gezuckertem Glücksklee\
 ,  aber das Tierchen[..]\nhttps://in-gl.de/events/barbers-puppentheater-fue
 r-kinder-das-neinhorn/
URL:https://in-gl.de/events/barbers-puppentheater-fuer-kinder-das-neinhorn/
END:VEVENT
END:VCALENDAR