BEGIN:VCALENDAR
VERSION:2.0
PRODID:-//eventon.com NONSGML v1.0//EN
CALSCALE:GREGORIAN
METHOD:PUBLISH
BEGIN:VEVENT
UID:69e51c3b3e23a
DTSTAMP:20260419T181731Z
DTSTART:20241005T143000Z
DTEND:20241005T235000Z
LOCATION:
SUMMARY:Kostenfreie Stadtführung: Sander Kirchen und Friedhöfe
DESCRIPTION:Lernen Sie Bergisch Gladbach kennen. Mit Manfred Dasbach und He
 inz-Bernd Padberg Dauer: 2-3 Stunden Die Schnuppertouren sind öffentlich u
 nd kostenlos. Da die Touren sehr beliebt sind\,  ist eine vorherige Anmeldu
 ng notwendig. Die Teilnehmerzahl ist auf 15 Personen begrenzt. Anmeldungen 
 werden per E-Mail unter schnuppertouren@stadt-gl.de oder per Telefon unter 
 02202 /[..]\nhttps://in-gl.de/events/kostenfreie-stadtfuehrung-sander-kirch
 en-und-friedhoefe/
URL:https://in-gl.de/events/kostenfreie-stadtfuehrung-sander-kirchen-und-friedhoefe/
END:VEVENT
END:VCALENDAR