BEGIN:VCALENDAR
VERSION:2.0
PRODID:-//eventon.com NONSGML v1.0//EN
CALSCALE:GREGORIAN
METHOD:PUBLISH
BEGIN:VEVENT
UID:69e614c29baa9
DTSTAMP:20260420T115754Z
DTSTART:20241013T150000Z
DTEND:20241013T235000Z
LOCATION:
SUMMARY:Theater für die Jüngsten
DESCRIPTION:Nach einer langen Wanderung ist Kasper hundemüde und übernach
 tet in einem verlassenen Schloss. Verlassen? Nicht ganz! Denn pünktlich um
  Mitternacht steigt das Schlossgespenst Eusebius aus seiner Truhe und bring
 t Kasper mit allerhand fröhlichen Spukereien um den verdienten Schlaf. Abe
 r ganz so fröhlich ist das Gespenst gar nicht\,  denn eigentlich sehnt[..]
 \nhttps://in-gl.de/events/theater-fuer-die-juengsten/
URL:https://in-gl.de/events/theater-fuer-die-juengsten/
END:VEVENT
END:VCALENDAR