BEGIN:VCALENDAR
VERSION:2.0
PRODID:-//eventon.com NONSGML v1.0//EN
CALSCALE:GREGORIAN
METHOD:PUBLISH
BEGIN:VEVENT
UID:69e8115fa0832
DTSTAMP:20260422T000759Z
DTSTART:20241116T110000Z
DTEND:20241116T180000Z
LOCATION:
SUMMARY:Kunstbasar
DESCRIPTION:Mehr als 60 Kunsthandwerker*innen verkaufen wunderschÃ¶ne Artik
 el\,  Tombola mit tollen Gewinnen\, Cafeteria mit leckerem Kuchen! Die Zaub
 erer Walter Andes mit Hexe Ulrike Spiegel und Zandini Dietmar BÃ¶hm verzaub
 ern kleine und groÃŸe Besucher Ingo SchÃ¼tze zeigt die Kunst des PapierschÃ
 ¶pfens Eintritt frei\,  Ã¼ber eine Spende wÃ¼rden wir uns freuen. Der Reine
 rlÃ¶s geht[..]\nhttps://in-gl.de/events/kunstbasar/
URL:https://in-gl.de/events/kunstbasar/
END:VEVENT
END:VCALENDAR