BEGIN:VCALENDAR
VERSION:2.0
PRODID:-//eventon.com NONSGML v1.0//EN
CALSCALE:GREGORIAN
METHOD:PUBLISH
BEGIN:VEVENT
UID:69e50535288e2
DTSTAMP:20260419T163917Z
DTSTART:20241020T140000Z
DTEND:20241020T160000Z
LOCATION:
SUMMARY:Handwerker-Vorführung: Weben
DESCRIPTION:Sonntagnachmittags lassen unsere ehrenamtlichen Handwerker\,  S
 abine und Matthias Körsgen\,  historische Techniken aufleben. Schauen Sie 
 ihnen über die Schulter. Eintritt: 3 Euro / 1\, 50 Euro (ermäßigt) / fü
 r Kinder im Vorschulalter frei\nhttps://in-gl.de/events/handwerker-vorfuehr
 ung-weben-8/
URL:https://in-gl.de/events/handwerker-vorfuehrung-weben-8/
END:VEVENT
END:VCALENDAR