BEGIN:VCALENDAR
VERSION:2.0
PRODID:-//eventon.com NONSGML v1.0//EN
CALSCALE:GREGORIAN
METHOD:PUBLISH
BEGIN:VEVENT
UID:69e4fef0c173a
DTSTAMP:20260419T161232Z
DTSTART:20241020T170000Z
DTEND:20241020T235000Z
LOCATION:
SUMMARY:Quirl – Open Air mit Old School Rock
DESCRIPTION:Der Name der Band ist Programm\,  denn bei den Musikern stehen 
 die Highlights aus 50 Jahren Rock’n’Roll\,  Blues und Rockmusik auf der
  Songliste. Hits von den Beatles\,  Deep Purple\,  Golden Earring\,  Manfre
 d Mann\,  Queen und Whitesnake -um nur einige zu nennen- sorgen für eine m
 itreißende Rockshow. Oldschool Rock präsentiert die[..]\nhttps://in-gl.de
 /events/quirl-open-air-mit-old-school-rock/
URL:https://in-gl.de/events/quirl-open-air-mit-old-school-rock/
END:VEVENT
END:VCALENDAR