BEGIN:VCALENDAR
VERSION:2.0
PRODID:-//eventon.com NONSGML v1.0//EN
CALSCALE:GREGORIAN
METHOD:PUBLISH
BEGIN:VEVENT
UID:69e789cb09dc6
DTSTAMP:20260421T142931Z
DTSTART:20241024T150000Z
DTEND:20241024T235000Z
LOCATION:
SUMMARY:Bilderbuchkino „Der Waldbuchclub“ mit Kuscheltierübernachtung
DESCRIPTION:An warmen Tagen sitzt Hoppel am liebsten vor der Bücherei und 
 lauscht heimlich der Märchenstunde. Aber wenn es kälter ist\,  wird die M
 ärchenstunde zurück in die Bücherei verlegt. Hoppelt sehnt sich danach\,
   Geschichten zu lauschen und wird fast verrückt ohne Bücher. Schon bald 
 heckt er einen Plan aus\,  um nicht[..]\nhttps://in-gl.de/events/bilderbuch
 kino-der-waldbuchclub-mit-kuscheltieruebernachtung/
URL:https://in-gl.de/events/bilderbuchkino-der-waldbuchclub-mit-kuscheltieruebernachtung/
END:VEVENT
END:VCALENDAR