BEGIN:VCALENDAR
VERSION:2.0
PRODID:-//eventon.com NONSGML v1.0//EN
CALSCALE:GREGORIAN
METHOD:PUBLISH
BEGIN:VEVENT
UID:69e7c4fedbda3
DTSTAMP:20260421T184206Z
DTSTART:20241024T190000Z
DTEND:20241024T235000Z
LOCATION:
SUMMARY:Wie geht es weiter mit Zanders?
DESCRIPTION:Die SPD in Refrath lädt am 24. Oktober um 19.00 Uhr im Refrath
 er Treff\,  Steinbreche 30 zu einer offene Informationsveranstaltung zum Th
 ema: „Wie geht es weiter mit Zanders?“ Vortragender ist Andreas Ebert\,
   der Vorsitzende des Planungsausschuss. Marcel Kreutz\,  der Bürgermeiste
 rkandidat von BÜNDNIS 90/DIE GRÜNEN und der SPD ist anwesend und[..]\nhtt
 ps://in-gl.de/events/wie-geht-es-weiter-mit-zanders/
URL:https://in-gl.de/events/wie-geht-es-weiter-mit-zanders/
END:VEVENT
END:VCALENDAR