BEGIN:VCALENDAR
VERSION:2.0
PRODID:-//eventon.com NONSGML v1.0//EN
CALSCALE:GREGORIAN
METHOD:PUBLISH
BEGIN:VEVENT
UID:69e76e84b5fbd
DTSTAMP:20260421T123308Z
DTSTART:20241104T173000Z
DTEND:20241104T190000Z
LOCATION:
SUMMARY:Offenes Singen-Schnupperprobe
DESCRIPTION:Der Gesangverein â€žHARMONIE Bensberg-Kaule e.V.â€œ mit seinem 
 Frauen- und Gemischten Chor lÃ¤dt im Rahmen der bundesweit stattfindenden â
 €žWoche der offenen ChÃ¶reâ€œ des Deutschen Chorverbandes Neueinsteiger zu 
 einer Schnupperprobe ein.Mit dieser Aktion soll neuen Interessierten die Ge
 legenheit geboten werden\,  unkompliziert musikalisch Kontakt zu knÃ¼pfen. 
 Auch der â€žGesangvereinHARMONIE Bensberg-Kaule e.V.â€œ gehÃ¶rt zu[..]\nhtt
 ps://in-gl.de/events/offenes-singen-13/
URL:https://in-gl.de/events/offenes-singen-13/
END:VEVENT
END:VCALENDAR