BEGIN:VCALENDAR
VERSION:2.0
PRODID:-//eventon.com NONSGML v1.0//EN
CALSCALE:GREGORIAN
METHOD:PUBLISH
BEGIN:VEVENT
UID:69e4f840c4652
DTSTAMP:20260419T154400Z
DTSTART:20241105T193000Z
DTEND:20241105T235000Z
LOCATION:
SUMMARY:Lesung mit Autor und Weinjournalist Carsten Henn
DESCRIPTION:In diesem unterhaltsamen und informativen Werk nimmt Henn seine
  Leser und Zuhörer mit auf eine Reise durch die Welt des Weins. Mit viel W
 itz und Charme erklärt er\,  wie man guten Wein erkennt\,  welchen Einflus
 s das Terroir auf den Geschmack hat und was die richtigen Weingläser bewir
 ken. Ein Abend für[..]\nhttps://in-gl.de/events/lesung-mit-autor-und-weinj
 ournalist-carsten-henn/
URL:https://in-gl.de/events/lesung-mit-autor-und-weinjournalist-carsten-henn/
END:VEVENT
END:VCALENDAR