BEGIN:VCALENDAR
VERSION:2.0
PRODID:-//eventon.com NONSGML v1.0//EN
CALSCALE:GREGORIAN
METHOD:PUBLISH
BEGIN:VEVENT
UID:69e4ee4b78bc7
DTSTAMP:20260419T150131Z
DTSTART:20241115T180000Z
DTEND:20241115T235000Z
LOCATION:
SUMMARY:Michael Buthe 80/30
DESCRIPTION:Arbeiten mit und auf Papier aus der Sammlung Kraft Die Kabinett
 -Ausstellung nimmt Michael Buthes 80. Geburtstag und 30. Todestag in diesem
  Jahr zum Anlass für eine Erinnerung an den Künstler\,  der nicht nur in 
 der Region für seine Gemälde\,  Skulpturen\,  Collagen und Texte bekannt 
 ist. Kuratiert von Dr. Ina Dinter.Ausstellung[..]\nhttps://in-gl.de/events/
 michael-buthe-80-30/
URL:https://in-gl.de/events/michael-buthe-80-30/
END:VEVENT
END:VCALENDAR