BEGIN:VCALENDAR
VERSION:2.0
PRODID:-//eventon.com NONSGML v1.0//EN
CALSCALE:GREGORIAN
METHOD:PUBLISH
BEGIN:VEVENT
UID:69e51ec467b54
DTSTAMP:20260419T182820Z
DTSTART:20241108T200000Z
DTEND:20241108T235000Z
LOCATION:
SUMMARY:Wilfried Schmickler
DESCRIPTION:In seinem neuen Programm heiÃŸt es: â€žHerr Schmickler bitte!â€
 œ\,  und diesem Aufruf folgt er gerne: mit seiner Mischung aus gesprochenem
  Wort\,  lyrischen Gedichten und ausdrucksstarkem Gesang echauffiert sich w
 eiterhin Ã¼ber gesellschaftliche MiÃŸstÃ¤nde und Ungerechtigkeiten in diese
 r Welt. Eintritt: 32\, 00 EUR - Restkarten\nhttps://in-gl.de/events/wilfrie
 d-schmickler/
URL:https://in-gl.de/events/wilfried-schmickler/
END:VEVENT
END:VCALENDAR