BEGIN:VCALENDAR
VERSION:2.0
PRODID:-//eventon.com NONSGML v1.0//EN
CALSCALE:GREGORIAN
METHOD:PUBLISH
BEGIN:VEVENT
UID:69e560d7e9ac0
DTSTAMP:20260419T231015Z
DTSTART:20241117T110000Z
DTEND:20241117T120000Z
LOCATION:
SUMMARY:Paper / Elements . Kunst aus Papier und die vier Elemente
DESCRIPTION:Führung durch die Ausstellung „Paper / Elements . Kunst aus 
 Papier und die vier Elemente“.Die Teilnahmegebühr ist im Museumseintritt
  enthalten. Die Ausstellung widmet sich den vier Elementen Feuer\,  Wasser\
 ,  Erde und Luft und lenkt gleichzeitig den Fokus auf die Sammlung „Kunst
  aus Papier“. Seit der Antike faszinieren die vier Elemente[..]\nhttps://
 in-gl.de/events/paper-elements-kunst-aus-papier-und-die-vier-elemente/
URL:https://in-gl.de/events/paper-elements-kunst-aus-papier-und-die-vier-elemente/
END:VEVENT
END:VCALENDAR