BEGIN:VCALENDAR
VERSION:2.0
PRODID:-//eventon.com NONSGML v1.0//EN
CALSCALE:GREGORIAN
METHOD:PUBLISH
BEGIN:VEVENT
UID:69e7b21a43fd2
DTSTAMP:20260421T172130Z
DTSTART:20241106T163000Z
DTEND:20241106T193000Z
LOCATION:
SUMMARY:Impulsworkshop: Parolen Paroli
DESCRIPTION:Sie trauen sich oft nicht\,  sich einzumischen\,  wenn Mitmensc
 hen durch verletzende\,  rechtsextreme\,  diskriminierende oder rassistisch
 e Äußerungen herabgesetzt werden? Oder wenn die neuesten Verschwörungsge
 schichten erzählt werden? Grenzen setzen\,  humorvoll reagieren\,  Konsequ
 enzen erfragen\,  Vorurteile entkräften – die Palette der Zivilcourage i
 n solchen Situationen ist groß. Der Workshop "Parolen-Paroli" ermutigt un
 d befähigt Sie\,  Stellung gegen[..]\nhttps://in-gl.de/events/impulsworks
 hop-parolen-paroli/
URL:https://in-gl.de/events/impulsworkshop-parolen-paroli/
END:VEVENT
END:VCALENDAR