BEGIN:VCALENDAR
VERSION:2.0
PRODID:-//eventon.com NONSGML v1.0//EN
CALSCALE:GREGORIAN
METHOD:PUBLISH
BEGIN:VEVENT
UID:69e5228991b88
DTSTAMP:20260419T184425Z
DTSTART:20241106T170000Z
DTEND:20241106T210000Z
LOCATION:
SUMMARY:Patientenseminar „Prostatakrebs - Was tun?“
DESCRIPTION:Das Seminar der GFO-Kliniken Rhein-Berg ist kostenlos.\nhttps:/
 /in-gl.de/events/kostenloses-patientenseminar-prostatakrebs-was-tun/
URL:https://in-gl.de/events/kostenloses-patientenseminar-prostatakrebs-was-tun/
END:VEVENT
END:VCALENDAR