BEGIN:VCALENDAR
VERSION:2.0
PRODID:-//eventon.com NONSGML v1.0//EN
CALSCALE:GREGORIAN
METHOD:PUBLISH
BEGIN:VEVENT
UID:69e7ce075a729
DTSTAMP:20260421T192039Z
DTSTART:20241207T190000Z
DTEND:20241207T235000Z
LOCATION:
SUMMARY:„0rchester Südstadt Tango“ spielt Tangos aus 100 Jahren 
DESCRIPTION:Mit dem „Orchester Südstadt Tango“ bringt Himmel un Ääd 
 nun bereits zum dritten Mal einen Hauch von Buenos Aires nach Schildgen in 
 den Pfarrsaal. „Ein absolut fantastisches Konzert\,  mitreißende Musik\,
   tolle Musiker:innen\,  ein begeistertes Publikum im ausverkauften Pfarrsa
 al“ – so eine letztjährige Besucherin. Das 15 bis 20-köpfige Orcheste
 r unter Leitung[..]\nhttps://in-gl.de/events/0rchester-suedstadt-tango-spie
 lt-tangos-aus-100-jahren/
URL:https://in-gl.de/events/0rchester-suedstadt-tango-spielt-tangos-aus-100-jahren/
END:VEVENT
END:VCALENDAR