BEGIN:VCALENDAR
VERSION:2.0
PRODID:-//eventon.com NONSGML v1.0//EN
CALSCALE:GREGORIAN
METHOD:PUBLISH
BEGIN:VEVENT
UID:69e54f9af21c4
DTSTAMP:20260419T215642Z
DTSTART:20241107T183000Z
DTEND:20241107T204500Z
LOCATION:
SUMMARY:Erste Hilfe bei Säuglingen und Kleinkindern
DESCRIPTION:Dozentin: Dr. Uta Römer\,  Gebühr 9 EuroVeranstaltungsort/Anm
 eldung und weitere Informationen:Kath. Familienbildungsstätte\,  Laurentiu
 sstraße 4-12\,  51465 Bergisch GladbachTel. 0 22 02 / 9 36390 * Fax. 0 22 
 02 / 93 639-55 *E-mail: info@fbs-gladbach\,  www.fbs-gladbach.de\nhttps://i
 n-gl.de/events/erste-hilfe-bei-saeuglingen-und-kleinkindern/
URL:https://in-gl.de/events/erste-hilfe-bei-saeuglingen-und-kleinkindern/
END:VEVENT
END:VCALENDAR