BEGIN:VCALENDAR
VERSION:2.0
PRODID:-//eventon.com NONSGML v1.0//EN
CALSCALE:GREGORIAN
METHOD:PUBLISH
BEGIN:VEVENT
UID:69e7624db50f6
DTSTAMP:20260421T114101Z
DTSTART:20241109T150000Z
DTEND:20241109T171500Z
LOCATION:
SUMMARY:Musikseminar: Giacomo Puccini - Zum 100. Todestag
DESCRIPTION:Als Giacomo Puccini am 29. November 1924 in Brüssel starb\,  g
 ehörte er bereits zu denerfolgreichsten Komponisten aller Zeiten und viele
  seiner Opern finden sich bis heute unterden populärsten Stücken des Repe
 rtoires. Der Vortrag wirft einen Blick auf die Persönlichkeit des Komponis
 ten sowie die Rolle seiner Musik inmitten der spannungsreichen gesellschaft
 lichen[..]\nhttps://in-gl.de/events/musikseminar-giacomo-puccini-zum-100-to
 destag/
URL:https://in-gl.de/events/musikseminar-giacomo-puccini-zum-100-todestag/
END:VEVENT
END:VCALENDAR