BEGIN:VCALENDAR
VERSION:2.0
PRODID:-//eventon.com NONSGML v1.0//EN
CALSCALE:GREGORIAN
METHOD:PUBLISH
BEGIN:VEVENT
UID:69e60e76cf483
DTSTAMP:20260420T113102Z
DTSTART:20241106T160000Z
DTEND:20241106T180000Z
LOCATION:
SUMMARY:Offenes Malen
DESCRIPTION:Sich eine Auszeit vom Alltag nehmen und in lockerer Runde zwang
 slos malen\,  das können die Teilnehmenden beim offenen Malen. Bei Mischte
 chnik\,  Zeichnen oder Collagen kann man einfach ausprobieren\,  was am mei
 sten Spaß macht\,  denn Malen tut der Seele gut! Alle zwei Wochen findet d
 as Offene Malen ab 6.11. statt. Die[..]\nhttps://in-gl.de/events/offenes-ma
 len/
URL:https://in-gl.de/events/offenes-malen/
END:VEVENT
END:VCALENDAR