BEGIN:VCALENDAR
VERSION:2.0
PRODID:-//eventon.com NONSGML v1.0//EN
CALSCALE:GREGORIAN
METHOD:PUBLISH
BEGIN:VEVENT
UID:69e51f1b0fc01
DTSTAMP:20260419T182947Z
DTSTART:20241108T100000Z
DTEND:20241108T113000Z
LOCATION:
SUMMARY:Sprechstunde rund um die moderne Technik
DESCRIPTION:Unsere Welt wird immer digitaler\,  aber dadurch nicht unbeding
 t einfacher. Hilfe bei Problemen mit dem PC\,  Smartphone\,  i-Phone\,  Tab
 let oder dem Internet wird von Dietmar Zeschau angeboten.Jeder Termin dauer
 t 30 Minuten. Eine Anmeldung unter der Telefonnummer 02202 – 18 90 60 ode
 r per Mail unter mittendrin@caritas-rheinberg.de ist erforderlich. Eine Spe
 nde[..]\nhttps://in-gl.de/events/sprechstunde-rund-um-die-moderne-technik/
URL:https://in-gl.de/events/sprechstunde-rund-um-die-moderne-technik/
END:VEVENT
END:VCALENDAR