BEGIN:VCALENDAR
VERSION:2.0
PRODID:-//eventon.com NONSGML v1.0//EN
CALSCALE:GREGORIAN
METHOD:PUBLISH
BEGIN:VEVENT
UID:69e789c0d97c2
DTSTAMP:20260421T142920Z
DTSTART:20241120T130000Z
DTEND:20241120T151500Z
LOCATION:
SUMMARY:Smartphone Kurs für Fortgeschrittene
DESCRIPTION:Teilnehmende können sich über weitergehende Funktionen ihres 
 Smartphones infor-mieren. Themen sind unter anderem Klingeltöne und Kamera
 . Zudem wird erklärt\,  welche Apps sinnvoll sind und wie diese installier
 t werden. Kursleiter ist Manfred Falb. DieKosten betragen 30 Euro. Teilnahm
 evoraussetzung ist ein eigenes Smartphone (Android). Anmeldung unter Telefo
 n 02202 – 18 90 60[..]\nhttps://in-gl.de/events/smartphone-kurs-fuer-fort
 geschrittene/
URL:https://in-gl.de/events/smartphone-kurs-fuer-fortgeschrittene/
END:VEVENT
END:VCALENDAR