BEGIN:VCALENDAR
VERSION:2.0
PRODID:-//eventon.com NONSGML v1.0//EN
CALSCALE:GREGORIAN
METHOD:PUBLISH
BEGIN:VEVENT
UID:69e568554e4a1
DTSTAMP:20260419T234213Z
DTSTART:20241108T180000Z
DTEND:20241108T235000Z
LOCATION:
SUMMARY:cabra azul lädt zur Eröffnung ein
DESCRIPTION:Nachdem cabra azul bereits Mitte August in die Laurentiusstraß
 e 91 eingezogen ist und somit die Labels „just Be. Glad.“ und „imagin
 e“ ein festes Dach über dem Kopf haben\,  stößt Inhaberin Dénise Amar
 al-Anders jetzt offiziell auf die Eröffnung an. Mit dabei: Bio-Hoodies\,  
 -Sweatjacken\,  -Shirts und Taschen\,  wunderschöne Keramik aus Portugal\,
   Livemusik[..]\nhttps://in-gl.de/events/cabra-azul-laedt-zur-eroeffnung-ei
 n/
URL:https://in-gl.de/events/cabra-azul-laedt-zur-eroeffnung-ein/
END:VEVENT
END:VCALENDAR