BEGIN:VCALENDAR
VERSION:2.0
PRODID:-//eventon.com NONSGML v1.0//EN
CALSCALE:GREGORIAN
METHOD:PUBLISH
BEGIN:VEVENT
UID:69e51c1771433
DTSTAMP:20260419T181655Z
DTSTART:20241110T110000Z
DTEND:20241110T235000Z
LOCATION:
SUMMARY:Theater: Kasper und der Dieb auf roten Pfoten
DESCRIPTION:Bauer Jacob ist verzweifelt: Nacht für Nacht schleicht sich ei
 n listiger Fuchs in den Hühnerstall und stiehlt die Eier\,  die das Huhn H
 enriette eigentlich als Frühstückseier für Kaspers Großmutter gelegt ha
 t. Da für die Großmutter aber jeder Tag ohne Frühstücksei ein schlechte
 r Tag ist\,  macht sich Kasper sofort auf die Spur[..]\nhttps://in-gl.de/
 events/theater-kasper-und-der-dieb-auf-roten-pfoten/
URL:https://in-gl.de/events/theater-kasper-und-der-dieb-auf-roten-pfoten/
END:VEVENT
END:VCALENDAR