BEGIN:VCALENDAR
VERSION:2.0
PRODID:-//eventon.com NONSGML v1.0//EN
CALSCALE:GREGORIAN
METHOD:PUBLISH
BEGIN:VEVENT
UID:69e82676bae92
DTSTAMP:20260422T013758Z
DTSTART:20241116T100000Z
DTEND:20241116T235000Z
LOCATION:
SUMMARY:Das 25. Gitarrisimo
DESCRIPTION:Schon seit einem Vierteljahrhundert kommen große und kleine Gi
 tarren-Fans einmal im Jahr zusammen und musizieren einen ganzen Tag lang ge
 meinsam. GITARRISSIMO feiert 25-jähriges Jubiläum und lädt auch in diese
 m Jahr herzlich zur Teilnahme ein!Jedes Jahr werden andere Stücke eigens f
 ür GITARRISSIMO von den Dozentinnen und Dozenten bearbeitet. Die Auswahl g
 arantiert[..]\nhttps://in-gl.de/events/das-25-gitarrisimo/
URL:https://in-gl.de/events/das-25-gitarrisimo/
END:VEVENT
END:VCALENDAR