BEGIN:VCALENDAR
VERSION:2.0
PRODID:-//eventon.com NONSGML v1.0//EN
CALSCALE:GREGORIAN
METHOD:PUBLISH
BEGIN:VEVENT
UID:69e4fe9991458
DTSTAMP:20260419T161105Z
DTSTART:20241124T153000Z
DTEND:20241124T235000Z
LOCATION:
SUMMARY:Geistliche Orgelmusik in St. Laurentius
DESCRIPTION:Zur Wiedereröffnung der Laurentiuskirche nach mehr als einjäh
 riger Generalsanierung darf auch die Klaisorgel wieder erklingen. Eingebund
 en in einen liturgischen Rahmen spielt Kantor Helmut Voß Orgelwerke von Jo
 hann Sebastian Bach\,  Olivier Messiaen sowie die Orgelsinfonie Nr. 5 f-Mol
 l op. 42/1 von Charles-Marie Widor. Die liturgische Leitung haben Pfarrer N
 orbert Hörter\,  Pfarrvikar[..]\nhttps://in-gl.de/events/geistliche-orgelm
 usik-zur-wiedereroeffnung-von-st-laurentius/
URL:https://in-gl.de/events/geistliche-orgelmusik-zur-wiedereroeffnung-von-st-laurentius/
END:VEVENT
END:VCALENDAR