BEGIN:VCALENDAR
VERSION:2.0
PRODID:-//eventon.com NONSGML v1.0//EN
CALSCALE:GREGORIAN
METHOD:PUBLISH
BEGIN:VEVENT
UID:69e5124989a92
DTSTAMP:20260419T173505Z
DTSTART:20241206T190000Z
DTEND:20241206T235000Z
LOCATION:
SUMMARY:Vorweihnachtliches Konzert mit dem Posaunenquartett OPUS 4
DESCRIPTION:Erleben Sie die „Trompete der tiefen Lage“ in einem festlic
 hen Konzert!Die Posaune\,  eines der ältesten chromatischen Orchesterinstr
 umente\,  hat seit dem 18. Jahrhundert ihren festen Platz im Orchester und 
 ist vielseitig in Renaissance- und Barockmusik bis hin zu modernen und jazz
 igen Stücken einsetzbar. Das Leipziger Posaunenquartett OPUS 4\,  geleitet
  von Jörg[..]\nhttps://in-gl.de/events/vorweihnachtliches-konzert-mit-dem-
 posaunenquartett-opus-4/
URL:https://in-gl.de/events/vorweihnachtliches-konzert-mit-dem-posaunenquartett-opus-4/
END:VEVENT
END:VCALENDAR