BEGIN:VCALENDAR
VERSION:2.0
PRODID:-//eventon.com NONSGML v1.0//EN
CALSCALE:GREGORIAN
METHOD:PUBLISH
BEGIN:VEVENT
UID:69e79ba38d787
DTSTAMP:20260421T154539Z
DTSTART:20241120T090000Z
DTEND:20241120T103000Z
LOCATION:
SUMMARY:BÃ¼rgersprechstunde von dem CDU-Landtagsabgeordneten Martin Lucke
DESCRIPTION:Der CDU-Landtagsabgeordnete fÃ¼r Bergisch Gladbach und RÃ¶srath
 \,  Martin Lucke\,  bietet regelmÃ¤ÃŸig eine BÃ¼rgersprechstunde mit der Ge
 legenheit zum persÃ¶nlichen Austausch an. Im Rahmen seiner diesjÃ¤hrigen â€
 žHerbsttourâ€œ wird er die WochenmÃ¤rkte in Bergisch Gladbach und RÃ¶srath 
 aufsuchen und dort den BÃ¼rgerinnen und BÃ¼rger zur VerfÃ¼gung stehen. Es i
 st Martin Lucke ein besonderes[..]\nhttps://in-gl.de/events/buergersprechst
 unde-von-cdu-landtagsabgeordneten-martin-lucke/
URL:https://in-gl.de/events/buergersprechstunde-von-cdu-landtagsabgeordneten-martin-lucke/
END:VEVENT
END:VCALENDAR