BEGIN:VCALENDAR
VERSION:2.0
PRODID:-//eventon.com NONSGML v1.0//EN
CALSCALE:GREGORIAN
METHOD:PUBLISH
BEGIN:VEVENT
UID:69e4f845c2ff2
DTSTAMP:20260419T154405Z
DTSTART:20241121T100000Z
DTEND:20241121T120000Z
LOCATION:
SUMMARY:BÃ¼rgersprechstunde von dem CDU-Landtagsabgeordneten Martin Lucke
DESCRIPTION:Der CDU-Landtagsabgeordnete fÃ¼r Bergisch Gladbach und RÃ¶srath
 \,  Martin Lucke\,  bietet regelmÃ¤ÃŸig eine BÃ¼rgersprechstunde mit der Ge
 legenheit zum persÃ¶nlichen Austausch an. Im Rahmen seiner diesjÃ¤hrigen â€
 žHerbsttourâ€œ wird er die WochenmÃ¤rkte in Bergisch Gladbach und RÃ¶srath 
 aufsuchen und dort den BÃ¼rgerinnen und BÃ¼rger zur VerfÃ¼gung stehen. Es i
 st Martin Lucke ein besonderes[..]\nhttps://in-gl.de/events/buergersprechst
 unde-von-dem-cdu-landtagsabgeordneten-martin-lucke/
URL:https://in-gl.de/events/buergersprechstunde-von-dem-cdu-landtagsabgeordneten-martin-lucke/
END:VEVENT
END:VCALENDAR