BEGIN:VCALENDAR
VERSION:2.0
PRODID:-//eventon.com NONSGML v1.0//EN
CALSCALE:GREGORIAN
METHOD:PUBLISH
BEGIN:VEVENT
UID:69ea187949ee3
DTSTAMP:20260423T130249Z
DTSTART:20241214T143000Z
DTEND:20241214T235000Z
LOCATION:
SUMMARY:Adventssingen
DESCRIPTION:Bei Kaffee\,  Plätzchen\,  Stollen und Glühwein gibt es ein w
 eihnachtliches Programm. Gerne können die bekannten Lieder mitgesungen wer
 den. Es kostet keinen Eintritt. Über Spenden freuen wir uns\,  sie helfen 
 dem Verein weiter.\nhttps://in-gl.de/events/adventssingen/
URL:https://in-gl.de/events/adventssingen/
END:VEVENT
END:VCALENDAR