BEGIN:VCALENDAR
VERSION:2.0
PRODID:-//eventon.com NONSGML v1.0//EN
CALSCALE:GREGORIAN
METHOD:PUBLISH
BEGIN:VEVENT
UID:69e4fea98485f
DTSTAMP:20260419T161121Z
DTSTART:20241207T193000Z
DTEND:20241207T235000Z
LOCATION:
SUMMARY:Chorkonzert "O du stille Zeit“
DESCRIPTION:Mit 67 Sängerinnen und Sängern und unter der Leitung von Joha
 nnes Honecker stimmt der Chor Sie auf die besinnliche Advents- und Weihnach
 tszeit ein. Freuen Sie sich auf ein abwechslungsreiches Programm aus stimmu
 ngsvollen Liedern – teils a cappella\,  teils begleitet von Klavier oder 
 Orgel.   Ein besonderes Highlight: Wie immer ist auch[..]\nhttps://in-gl.
 de/events/chorkonzert-o-du-stille-zeit/
URL:https://in-gl.de/events/chorkonzert-o-du-stille-zeit/
END:VEVENT
END:VCALENDAR