BEGIN:VCALENDAR
VERSION:2.0
PRODID:-//eventon.com NONSGML v1.0//EN
CALSCALE:GREGORIAN
METHOD:PUBLISH
BEGIN:VEVENT
UID:69e5125876578
DTSTAMP:20260419T173520Z
DTSTART:20241206T193000Z
DTEND:20241206T235000Z
LOCATION:
SUMMARY:Augenschmaus-Kino
DESCRIPTION:Zum Inhalt: 1980 in der DDR – Die Ärztin Barbara (Nina Hoss)
  hat einen Ausreiseantrag gestellt. Daraufhin wird sie von der Charité der
  Hauptstadt in die Provinz strafversetzt. Dort wird sie bespitzelt. Barbara
  hat weiterhin Kontakt zu ihren Freund Jörg im Westen\,  der sie zu einem 
 Fluchtversuch überreden möchte. Der[..]\nhttps://in-gl.de/events/augensch
 maus-kino-6/
URL:https://in-gl.de/events/augenschmaus-kino-6/
END:VEVENT
END:VCALENDAR