BEGIN:VCALENDAR
VERSION:2.0
PRODID:-//eventon.com NONSGML v1.0//EN
CALSCALE:GREGORIAN
METHOD:PUBLISH
BEGIN:VEVENT
UID:69e614d1ac7ad
DTSTAMP:20260420T115809Z
DTSTART:20241201T100000Z
DTEND:20241201T160000Z
LOCATION:
SUMMARY:Mineralien- und Fossilienbörse GEOLOGICA
DESCRIPTION:Es ist wieder soweit! Sammler\,  Fachleute und alle Interessier
 te\,  die die Wunderwelt der Steine (neu) entdecken möchten\,  können bei
  der Mineralien- und Fossilienbörse GEOLOGICA entdecken. Experten und Lieb
 haber präsentieren\,  tauschen und verkaufen ihre Steine und Fossilien. Da
 neben gibt es verschiedene Geo-Vorträge sowie für Kinder die Möglichkeit
 \,  echtes Gold zu waschen.[..]\nhttps://in-gl.de/events/mineralien-und-fos
 silienboerse-geologica-2/
URL:https://in-gl.de/events/mineralien-und-fossilienboerse-geologica-2/
END:VEVENT
END:VCALENDAR