BEGIN:VCALENDAR
VERSION:2.0
PRODID:-//eventon.com NONSGML v1.0//EN
CALSCALE:GREGORIAN
METHOD:PUBLISH
BEGIN:VEVENT
UID:69e4fe9512f00
DTSTAMP:20260419T161101Z
DTSTART:20241207T090000Z
DTEND:20241207T130000Z
LOCATION:
SUMMARY:Tag der offenen Tür des Gymnasiums Herkenrath
DESCRIPTION:Alle Interessierten sind eingeladen\,  die Schule in all ihren 
 Facetten kennenzulernen. Besonders willkommen sind Grundschülerinnen und G
 rundschüler der vierten Klassen und ihre Eltern\,  die auf der Suche nach 
 einer weiterführenden Schule sind.Unter dem Motto „Buntes Schulleben ent
 decken - Gemeinschaft erleben“ erwartet die Besucherinnen und Besucher ei
 n abwechslungsreiches Programm:Der Tag beginnt[..]\nhttps://in-gl.de/events
 /tag-der-offenen-tuer-des-gymnasiums-herkenrath/
URL:https://in-gl.de/events/tag-der-offenen-tuer-des-gymnasiums-herkenrath/
END:VEVENT
END:VCALENDAR