BEGIN:VCALENDAR
VERSION:2.0
PRODID:-//eventon.com NONSGML v1.0//EN
CALSCALE:GREGORIAN
METHOD:PUBLISH
BEGIN:VEVENT
UID:69e60b91145a8
DTSTAMP:20260420T111841Z
DTSTART:20241210T190000Z
DTEND:20241210T235000Z
LOCATION:
SUMMARY:Weihnachtskonzert
DESCRIPTION:Das musikalische Event verspricht ein vielseitiges Programm\,  
 das von Barock bis zur Moderne reicht und auch Pop\,  Jazz sowie Filmmusik 
 umfasst. Zu den auftretenden Ensembles gehören die Big Band der Schule\,  
 das Takahashi-Oktett und das Magnificat Ensemble. Zudem werden verschiedene
  Gesangs- und Instrumentalgruppen auftreten. Solisten aus der Schülerschaf
 t ergänzen das[..]\nhttps://in-gl.de/events/weihnachtskonzert-4/
URL:https://in-gl.de/events/weihnachtskonzert-4/
END:VEVENT
END:VCALENDAR