BEGIN:VCALENDAR
VERSION:2.0
PRODID:-//eventon.com NONSGML v1.0//EN
CALSCALE:GREGORIAN
METHOD:PUBLISH
BEGIN:VEVENT
UID:69e4fe899acd4
DTSTAMP:20260419T161049Z
DTSTART:20241207T150000Z
DTEND:20241207T235000Z
LOCATION:
SUMMARY:Bergisches ErzÃ¤hlkonzerts fÃ¼r Kinder
DESCRIPTION:FÃ¼r Familien mit Kindern ab 6 Jahren ein ganz besonderes Konze
 rt.Unter dem Titel â€žDes Kaisers neue Kleider - LÃ¼ge oder Wahrheitâ€œ trÃ
 ¤gt die ErzÃ¤hlerin Veronika HÃ¶fele drei kurze MÃ¤rchen frei\,  schillernd
  und lebendig vor. Die beiden Musiker Holger Faust Peters (Gambe) und Ute F
 aust (BlockflÃ¶te) und der Kinderchor der Musikschule\, [..]\nhttps://in-gl
 .de/events/bergisches-erzaehlkonzerts-fuer-kinder/
URL:https://in-gl.de/events/bergisches-erzaehlkonzerts-fuer-kinder/
END:VEVENT
END:VCALENDAR