BEGIN:VCALENDAR
VERSION:2.0
PRODID:-//eventon.com NONSGML v1.0//EN
CALSCALE:GREGORIAN
METHOD:PUBLISH
BEGIN:VEVENT
UID:69e4feb2f0667
DTSTAMP:20260419T161130Z
DTSTART:20241201T160000Z
DTEND:20241201T235000Z
LOCATION:
SUMMARY:Adventskonzerte der Heimatklänge Nussbaum
DESCRIPTION:Auch in diesem Jahr veranstaltet der Männergesangverein Heimat
 klänge Nußbaum seine Adventskonzerte. Am …&nbsp; 1.12.24 ab 16 Uhr in d
 er Heilig-Geist-Kirche in Bergisch Gladbach Hand 7.12.24 ab 16 Uhr in der G
 nadenkirche in Bergisch Gladbach 8.12.24 ab 16 Uhr in der St. Clemens Kirch
 e in Bergisch Gladbach Paffrath&nbsp; Chorleiter Rolf Pohle[..]\nhttps://in
 -gl.de/events/adventskonzerte-der-heimatklaenge-nussbaum/
URL:https://in-gl.de/events/adventskonzerte-der-heimatklaenge-nussbaum/
END:VEVENT
END:VCALENDAR