BEGIN:VCALENDAR
VERSION:2.0
PRODID:-//eventon.com NONSGML v1.0//EN
CALSCALE:GREGORIAN
METHOD:PUBLISH
BEGIN:VEVENT
UID:69e7c4eaddd92
DTSTAMP:20260421T184146Z
DTSTART:20241206T180000Z
DTEND:20241206T235000Z
LOCATION:
SUMMARY:Musikalisch-literarische Gedenkfeier
DESCRIPTION:Bergisch Gladbachs Traditionschor möchte an die Papierfabrikan
 tin und bedeutende Kulturstifterin erinnern\,  die 1885 mit der Gründung e
 ines Mädchenchores die Wurzeln für den heutigen KonzertChor gelegt hatte.
 Rund 20 Sängerinnen und Sänger des Chores werden u.a. Stücke von Bach\, 
  Puccini und Purcell singen. Lokalhistorikerin und Maria Zanders-Expertin P
 etra Bohlig wird mit Texten[..]\nhttps://in-gl.de/events/musikalisch-litera
 rische-gedenkfeier/
URL:https://in-gl.de/events/musikalisch-literarische-gedenkfeier/
END:VEVENT
END:VCALENDAR