BEGIN:VCALENDAR
VERSION:2.0
PRODID:-//eventon.com NONSGML v1.0//EN
CALSCALE:GREGORIAN
METHOD:PUBLISH
BEGIN:VEVENT
UID:69e786e7205fd
DTSTAMP:20260421T141711Z
DTSTART:20241207T183000Z
DTEND:20241207T235000Z
LOCATION:
SUMMARY:Offenes Adventssingen
DESCRIPTION:Weihnachtliche Lieder zum Hinhören und Mitsingen stehen auf de
 m Programm.Wie in jedem Jahr läutet der Traditionschor damit die festliche
  Zeit des gespannten Wartens auf Weihnachten ein. Das Publikum erwartet ein
 e Mischung aus traditionellen Weihnachtsliedern\,  die alle mitsingen könn
 en und sollen\,  und Stücken\,  die der Chor vorträgt. Darunter Bachs „
 Wie schön[..]\nhttps://in-gl.de/events/offenes-adventssingen-3/
URL:https://in-gl.de/events/offenes-adventssingen-3/
END:VEVENT
END:VCALENDAR