BEGIN:VCALENDAR
VERSION:2.0
PRODID:-//eventon.com NONSGML v1.0//EN
CALSCALE:GREGORIAN
METHOD:PUBLISH
BEGIN:VEVENT
UID:69e5780b893cb
DTSTAMP:20260420T004915Z
DTSTART:20241214T100000Z
DTEND:20241214T120000Z
LOCATION:
SUMMARY:Workshop: Weihnachtslieder flÃ¶ten
DESCRIPTION:Die gemeinsame Erarbeitung von Weihnachtsliedern auf der Blockf
 lÃ¶te ist bereits zum wiederholten Mal Inhalt der vorweihnachtlichen Verans
 taltung. Jutta Lambeck leitet den Bereich BlockflÃ¶te in der StÃ¤dtischen M
 ax-Bruch-Musikschule und hat mit der Dozentin Ute Faust schon mehrfach Work
 shops\,  Konzerte und andere Veranstaltungen organisiert. SchÃ¼ler und SchÃ
 ¼lerinnen sowie Ensembles des Fachbereichs treffen[..]\nhttps://in-gl.de/ev
 ents/workshop-weihnachtslieder-floeten/
URL:https://in-gl.de/events/workshop-weihnachtslieder-floeten/
END:VEVENT
END:VCALENDAR