BEGIN:VCALENDAR
VERSION:2.0
PRODID:-//eventon.com NONSGML v1.0//EN
CALSCALE:GREGORIAN
METHOD:PUBLISH
BEGIN:VEVENT
UID:69e5ff6bc686c
DTSTAMP:20260420T102651Z
DTSTART:20241212T193000Z
DTEND:20241212T235000Z
LOCATION:
SUMMARY:Vortrag: Digitaler Nachlass
DESCRIPTION:Referentin ist Stefanie Vogt\,  Verbraucherberaterin der Beratu
 ngsstelle Bergisch Gladbach der Verbraucherzentrale NRW e.V.Ein Leben ohne 
 Internet\,  PC und Smartphone ist für die meisten Menschen kaum nochvorste
 llbar: Verträge werden oft nur noch online geschlossen\,  Einkaufen im Int
 ernet ist zurNormalität geworden und soziale Netzwerke gehören zum Alltag
 . Die wenigsten Menschenbeschäftigen sich damit\, [..]\nhttps://in-gl.de/e
 vents/vortrag-digitaler-nachlass/
URL:https://in-gl.de/events/vortrag-digitaler-nachlass/
END:VEVENT
END:VCALENDAR