BEGIN:VCALENDAR
VERSION:2.0
PRODID:-//eventon.com NONSGML v1.0//EN
CALSCALE:GREGORIAN
METHOD:PUBLISH
BEGIN:VEVENT
UID:69e577d8d3c93
DTSTAMP:20260420T004824Z
DTSTART:20241205T160000Z
DTEND:20241205T235000Z
LOCATION:
SUMMARY:Nikolausmarkt in Paffrath
DESCRIPTION:„Alle Jahre wieder“ steht am Donnerstag der Hans-Hachen­be
 rg-Platz in Paffraths Zentrum ganz im Zeichen der vor­weih­­nachtlichen 
 Vorfreude. Auf dem Platz vor St. Clemens gibt es ab 16 Uhr Angebote an Adve
 nts- und Weihnachts­schmuck\,  oder warme Socken und Honig\,  dazu Glühwe
 in\,  Kinderpunsch\,  Bratwurst\,  Fritten & Co. sowie Stockbrot­backen am
  offenen Feuer.[..]\nhttps://in-gl.de/events/nikolausmarkt-in-paffrath/
URL:https://in-gl.de/events/nikolausmarkt-in-paffrath/
END:VEVENT
END:VCALENDAR