BEGIN:VCALENDAR
VERSION:2.0
PRODID:-//eventon.com NONSGML v1.0//EN
CALSCALE:GREGORIAN
METHOD:PUBLISH
BEGIN:VEVENT
UID:69e4d6a50ac1f
DTSTAMP:20260419T132037Z
DTSTART:20250115T190000Z
DTEND:20250115T235000Z
LOCATION:
SUMMARY:Informationsabend
DESCRIPTION:FÃ¼r die neue Palliativstation am Marienkrankenhaus Bergisch Gl
 adbach suchen die GFO Kliniken Rhein-Berg ehrenamtliche Mitarbeiter:innen\,
   die Patienten und deren ZugehÃ¶rige in einer schweren Erkrankung unterstÃ
 ¼tzen. Interessierte werden in einem BefÃ¤higungskurs intensiv auf die Aufg
 abe vorbereitet. Anmeldung und weitere Informationen bei Barbara FrÃ¶hlen u
 nter der Rufnummer 02204 41-1160 oder per Mail[..]\nhttps://in-gl.de/events
 /informationsabend/
URL:https://in-gl.de/events/informationsabend/
END:VEVENT
END:VCALENDAR