BEGIN:VCALENDAR
VERSION:2.0
PRODID:-//eventon.com NONSGML v1.0//EN
CALSCALE:GREGORIAN
METHOD:PUBLISH
BEGIN:VEVENT
UID:69e64d9d1e4a8
DTSTAMP:20260420T160029Z
DTSTART:20250111T180000Z
DTEND:20250111T235000Z
LOCATION:
SUMMARY:Konzert zum Ausklang der Weihnachtszeit
DESCRIPTION:Camerata am Heilsbrunnen\,  Oskar Liao (Orgel)\,  Silas Funcke 
 (Posaune) präsentieren Werke von Johann Sebastian Bach\,  Christoph Graupn
 er\,  Heinrich Schein\,  Sergeij Rachmaninoff u.a.Der Eintritt zu dem Konze
 rt ist frei.\nhttps://in-gl.de/events/konzert-zum-ausklang-der-weihnachtsze
 it-3/
URL:https://in-gl.de/events/konzert-zum-ausklang-der-weihnachtszeit-3/
END:VEVENT
END:VCALENDAR