BEGIN:VCALENDAR
VERSION:2.0
PRODID:-//eventon.com NONSGML v1.0//EN
CALSCALE:GREGORIAN
METHOD:PUBLISH
BEGIN:VEVENT
UID:69e60e85cd780
DTSTAMP:20260420T113117Z
DTSTART:20250111T160000Z
DTEND:20250111T170000Z
LOCATION:
SUMMARY:Michael Buthe 80/30
DESCRIPTION:Öffentliche Führung mit dem Sammler Prof. Dr. Hartmut Kraft d
 urch die Ausstellung Michael Buthe 80/30. Die Kabinett-Ausstellung nimmt Mi
 chael Buthes 80. Geburtstag und 30. Todestag in diesem Jahr zum Anlass für
  eine Erinnerung an den Künstler\,  der nicht nur in der Region für seine
  Gemälde\,  Skulpturen\,  Collagen und Texte bekannt[..]\nhttps://in-gl.de
 /events/michael-buthe-80-30-4/
URL:https://in-gl.de/events/michael-buthe-80-30-4/
END:VEVENT
END:VCALENDAR