BEGIN:VCALENDAR
VERSION:2.0
PRODID:-//eventon.com NONSGML v1.0//EN
CALSCALE:GREGORIAN
METHOD:PUBLISH
BEGIN:VEVENT
UID:69e561cd4b685
DTSTAMP:20260419T231421Z
DTSTART:20250118T103000Z
DTEND:20250118T130000Z
LOCATION:
SUMMARY:Yoga im Museum: All about Eve
DESCRIPTION:90-minütige Yogapraxis im Grünen Salon mit anschließender ei
 nstündiger Führung durch die aktuelle Ausstellung Ruth Marten: All about 
 Eve.Für Anfänger und Fortgeschrittene. Bitte bringen Sie Ihre Matte mit. 
 Mit Kati Kratz.Teilnahmegebühr inkl. Eintritt und Einführung: 25 EuroAnme
 ldung\nhttps://in-gl.de/events/yoga-im-museum-all-about-eve-copy/
URL:https://in-gl.de/events/yoga-im-museum-all-about-eve-copy/
END:VEVENT
END:VCALENDAR