BEGIN:VCALENDAR
VERSION:2.0
PRODID:-//eventon.com NONSGML v1.0//EN
CALSCALE:GREGORIAN
METHOD:PUBLISH
BEGIN:VEVENT
UID:69e614b8a90bb
DTSTAMP:20260420T115744Z
DTSTART:20250209T140000Z
DTEND:20250209T235000Z
LOCATION:
SUMMARY:Öffentliche Führung durch die Ausstellung Must-have
DESCRIPTION:Tabakpfeife\,  Schallplatte oder Smartphone – Konsumartikel\,
   die alle kennen\,  alle haben\,  alle brauchen? Zu verschiedenen Zeiten g
 alten ganz unterschiedliche Dinge als „Must-have“. Die Ausstellung verf
 olgt die Entwicklung des Konsums der letzten 200 Jahre bis in die Gegenwart
  und regt zur Auseinandersetzung mit unserem eigenen Konsumverhalten an. Ko
 sten: Erwachsene 5\, 50 €\, [..]\nhttps://in-gl.de/events/oeffentliche-fu
 ehrung-durch-die-ausstellung-must-have-8/
URL:https://in-gl.de/events/oeffentliche-fuehrung-durch-die-ausstellung-must-have-8/
END:VEVENT
END:VCALENDAR